BEGIN:VCALENDAR
VERSION:2.0
PRODID:-//Library Market//iCal Export//EN
BEGIN:VEVENT
SUMMARY:Community Ofrenda
UID:56823
DTSTAMP:20260419T214100Z
DTSTART:20261004T060000Z
DTEND:20261101T060000Z
LOCATION:Broomfield Library, 3 Community Park Rd., Broomfield, CO 80020, U
 nited States
ROOM: Community Ofrenda
DESCRIPTION:Honor your own ancestors, those we have lost and our diverse c
 ommunity with the Broomfield Library Community Ofrenda. Contribute items o
 f your own to carry on the traditions of previous generations, or simply p
 ay respects to this rich cultural tradition. The ofrenda will be on displ
 ay during the month of October in the Library. Bring items for the ofrenda
  at any point during the month.Tendremos una ofrenda comunitaria donde se 
 podrá honrar sus antepasados y seres queridos que hayan fallecido. La Ofr
 enda Comunitaria estará construida en la Biblioteca de Broomfield. Contri
 buya con artículos propios para continuar con las tradiciones de generaci
 ones anteriores, o simplemente rinda homenaje a esta rica tradición cultu
 ral. La ofrenda estará expuesta del 1 al 31 de octubre en la Biblioteca 
 de Broomfield. Traiga artículos para la ofrenda en cualquier momento dura
 nte el mes. 
URL:https://compass.broomfield.org/event/community-ofrenda-56823
END:VEVENT
END:VCALENDAR
