BEGIN:VCALENDAR
VERSION:2.0
PRODID:-//Library Market//iCal Export//EN
BEGIN:VEVENT
SUMMARY:Broomfield Symphony Orchestra presents Winners of the Young Artist
  Competition
UID:56849
DTSTAMP:20260420T002200Z
DTSTART:20260517T013000Z
DTEND:20260517T030000Z
LOCATION:3 Community Park Road, Broomfield, CO 80020, United States
ROOM: Auditorium
DESCRIPTION:The Broomfield Symphony Orchestra presents the winners of our 
 Young Artists Competition. Violinist Sabine Han plays the lyrical Samuel B
 arber Violin Concerto, and violinist Sadie Han is featured on the  romant
 ic Sibelius Violin Concerto, conducted by Director David Brussel. Tickets
 : $10-25Purchase tickets and learn more here.
URL:https://compass.broomfield.org/event/broomfield-symphony-orchestra-pre
 sents-winners-young-artist-competition-56849
END:VEVENT
END:VCALENDAR
