BEGIN:VCALENDAR
VERSION:2.0
PRODID:-//Library Market//iCal Export//EN
BEGIN:VEVENT
SUMMARY:LAHE Teen Volunteer Info Session
UID:57027
DTSTAMP:20260424T212000Z
DTSTART:20260521T000000Z
DTEND:20260521T020000Z
LOCATION:6 Garden Center, 6 Garden Center, Broadlands Conference Room 2nd 
 Floor, Broomfield Library &amp; Auditorium, CO 80020, United States
ROOM: In the Community
DESCRIPTION:Learn about teen volunteer opportunities with the Library, Art
 s, History, and CSU Extension (LAHE) Department!We’re hosting two inform
 ational sessions where you can explore available roles, expectations, and 
 ask questions. Both sessions will run from 6:00–8:00 PM, and pizza will 
 be provided.Important: You must RSVP to attend.Session Details:May 13thBro
 omfield Public Library2nd Floor, Eisenhower RoomMay 20th6 Garden Center2nd
  Floor, Broadlands Conference Room   
URL:https://compass.broomfield.org/event/lahe-teen-volunteer-info-session-
 57027
END:VEVENT
END:VCALENDAR
