BEGIN:VCALENDAR
VERSION:2.0
PRODID:-//Library Market//iCal Export//EN
BEGIN:VEVENT
SUMMARY:High School Finals Study Space
UID:57050
DTSTAMP:20260424T212000Z
DTSTART:20260520T230000Z
DTEND:20260521T020000Z
LOCATION:Broomfield Library, 3 Community Park Rd., Broomfield, CO 80020, U
 nited States
ROOM: Group Study Room
DESCRIPTION:High school students, do you need a place to prep for your fin
 als?The Group Study Room will be reserved for students in grades 9-12 from
  5-8 p.m., Monday-Thursday, May 6 - 20. No reservation needed; just ch
 eck in with the second floor desk to use the room.Space is limited to 6 pe
 ople at a time. 
URL:https://compass.broomfield.org/event/copy-high-school-finals-study-spa
 ce-57050
END:VEVENT
END:VCALENDAR
